BEGIN:VCALENDAR
VERSION:2.0
PRODID:-//Green Revolution - ECPv6.15.8//NONSGML v1.0//EN
CALSCALE:GREGORIAN
METHOD:PUBLISH
X-ORIGINAL-URL:https://greenrevolution.ro
X-WR-CALDESC:Evenimente pentru Green Revolution
REFRESH-INTERVAL;VALUE=DURATION:PT1H
X-Robots-Tag:noindex
X-PUBLISHED-TTL:PT1H
BEGIN:VTIMEZONE
TZID:UTC
BEGIN:STANDARD
TZOFFSETFROM:+0000
TZOFFSETTO:+0000
TZNAME:UTC
DTSTART:20250101T000000
END:STANDARD
END:VTIMEZONE
BEGIN:VEVENT
DTSTART;TZID=UTC:20260314T100000
DTEND;TZID=UTC:20260314T123000
DTSTAMP:20260421T111356
CREATED:20250624T114412Z
LAST-MODIFIED:20250624T114412Z
UID:10000192-1773482400-1773491400@greenrevolution.ro
SUMMARY:Yoga & pilates powered by Worldclass
DESCRIPTION:Sportul în aer liber\, la firul ierbii\, pe pajiștea RdC!
URL:https://greenrevolution.ro/eveniment/yoga-pilates-powered-by-worldclass/2026-03-14/
ATTACH;FMTTYPE=image/jpeg:https://greenrevolution.ro/wp-content/uploads/2025/06/WhatsApp-Image-2025-06-24-at-14.33.45.jpeg
END:VEVENT
BEGIN:VEVENT
DTSTART;TZID=UTC:20260321T100000
DTEND;TZID=UTC:20260321T123000
DTSTAMP:20260421T111356
CREATED:20250624T114412Z
LAST-MODIFIED:20250624T114412Z
UID:10000193-1774087200-1774096200@greenrevolution.ro
SUMMARY:Yoga & pilates powered by Worldclass
DESCRIPTION:Sportul în aer liber\, la firul ierbii\, pe pajiștea RdC!
URL:https://greenrevolution.ro/eveniment/yoga-pilates-powered-by-worldclass/2026-03-21/
ATTACH;FMTTYPE=image/jpeg:https://greenrevolution.ro/wp-content/uploads/2025/06/WhatsApp-Image-2025-06-24-at-14.33.45.jpeg
END:VEVENT
BEGIN:VEVENT
DTSTART;TZID=UTC:20260328T100000
DTEND;TZID=UTC:20260328T123000
DTSTAMP:20260421T111356
CREATED:20250624T114412Z
LAST-MODIFIED:20250624T114412Z
UID:10000194-1774692000-1774701000@greenrevolution.ro
SUMMARY:Yoga & pilates powered by Worldclass
DESCRIPTION:Sportul în aer liber\, la firul ierbii\, pe pajiștea RdC!
URL:https://greenrevolution.ro/eveniment/yoga-pilates-powered-by-worldclass/2026-03-28/
ATTACH;FMTTYPE=image/jpeg:https://greenrevolution.ro/wp-content/uploads/2025/06/WhatsApp-Image-2025-06-24-at-14.33.45.jpeg
END:VEVENT
BEGIN:VEVENT
DTSTART;TZID=UTC:20260404T100000
DTEND;TZID=UTC:20260404T123000
DTSTAMP:20260421T111356
CREATED:20250624T114412Z
LAST-MODIFIED:20250624T114412Z
UID:10000195-1775296800-1775305800@greenrevolution.ro
SUMMARY:Yoga & pilates powered by Worldclass
DESCRIPTION:Sportul în aer liber\, la firul ierbii\, pe pajiștea RdC!
URL:https://greenrevolution.ro/eveniment/yoga-pilates-powered-by-worldclass/2026-04-04/
ATTACH;FMTTYPE=image/jpeg:https://greenrevolution.ro/wp-content/uploads/2025/06/WhatsApp-Image-2025-06-24-at-14.33.45.jpeg
END:VEVENT
BEGIN:VEVENT
DTSTART;TZID=UTC:20260411T100000
DTEND;TZID=UTC:20260411T123000
DTSTAMP:20260421T111356
CREATED:20250624T114412Z
LAST-MODIFIED:20250624T114412Z
UID:10000196-1775901600-1775910600@greenrevolution.ro
SUMMARY:Yoga & pilates powered by Worldclass
DESCRIPTION:Sportul în aer liber\, la firul ierbii\, pe pajiștea RdC!
URL:https://greenrevolution.ro/eveniment/yoga-pilates-powered-by-worldclass/2026-04-11/
ATTACH;FMTTYPE=image/jpeg:https://greenrevolution.ro/wp-content/uploads/2025/06/WhatsApp-Image-2025-06-24-at-14.33.45.jpeg
END:VEVENT
BEGIN:VEVENT
DTSTART;TZID=UTC:20260418T100000
DTEND;TZID=UTC:20260418T123000
DTSTAMP:20260421T111356
CREATED:20250624T114412Z
LAST-MODIFIED:20250624T114412Z
UID:10000197-1776506400-1776515400@greenrevolution.ro
SUMMARY:Yoga & pilates powered by Worldclass
DESCRIPTION:Sportul în aer liber\, la firul ierbii\, pe pajiștea RdC!
URL:https://greenrevolution.ro/eveniment/yoga-pilates-powered-by-worldclass/2026-04-18/
ATTACH;FMTTYPE=image/jpeg:https://greenrevolution.ro/wp-content/uploads/2025/06/WhatsApp-Image-2025-06-24-at-14.33.45.jpeg
END:VEVENT
BEGIN:VEVENT
DTSTART;TZID=UTC:20260425T100000
DTEND;TZID=UTC:20260425T123000
DTSTAMP:20260421T111356
CREATED:20250624T114412Z
LAST-MODIFIED:20250624T114412Z
UID:10000198-1777111200-1777120200@greenrevolution.ro
SUMMARY:Yoga & pilates powered by Worldclass
DESCRIPTION:Sportul în aer liber\, la firul ierbii\, pe pajiștea RdC!
URL:https://greenrevolution.ro/eveniment/yoga-pilates-powered-by-worldclass/2026-04-25/
ATTACH;FMTTYPE=image/jpeg:https://greenrevolution.ro/wp-content/uploads/2025/06/WhatsApp-Image-2025-06-24-at-14.33.45.jpeg
END:VEVENT
BEGIN:VEVENT
DTSTART;TZID=UTC:20260502T100000
DTEND;TZID=UTC:20260502T123000
DTSTAMP:20260421T111356
CREATED:20250624T114412Z
LAST-MODIFIED:20250624T114412Z
UID:10000199-1777716000-1777725000@greenrevolution.ro
SUMMARY:Yoga & pilates powered by Worldclass
DESCRIPTION:Sportul în aer liber\, la firul ierbii\, pe pajiștea RdC!
URL:https://greenrevolution.ro/eveniment/yoga-pilates-powered-by-worldclass/2026-05-02/
ATTACH;FMTTYPE=image/jpeg:https://greenrevolution.ro/wp-content/uploads/2025/06/WhatsApp-Image-2025-06-24-at-14.33.45.jpeg
END:VEVENT
BEGIN:VEVENT
DTSTART;TZID=UTC:20260509T100000
DTEND;TZID=UTC:20260509T123000
DTSTAMP:20260421T111356
CREATED:20250624T114412Z
LAST-MODIFIED:20250624T114412Z
UID:10000200-1778320800-1778329800@greenrevolution.ro
SUMMARY:Yoga & pilates powered by Worldclass
DESCRIPTION:Sportul în aer liber\, la firul ierbii\, pe pajiștea RdC!
URL:https://greenrevolution.ro/eveniment/yoga-pilates-powered-by-worldclass/2026-05-09/
ATTACH;FMTTYPE=image/jpeg:https://greenrevolution.ro/wp-content/uploads/2025/06/WhatsApp-Image-2025-06-24-at-14.33.45.jpeg
END:VEVENT
BEGIN:VEVENT
DTSTART;TZID=UTC:20260516T100000
DTEND;TZID=UTC:20260516T123000
DTSTAMP:20260421T111356
CREATED:20250624T114412Z
LAST-MODIFIED:20250624T114412Z
UID:10000201-1778925600-1778934600@greenrevolution.ro
SUMMARY:Yoga & pilates powered by Worldclass
DESCRIPTION:Sportul în aer liber\, la firul ierbii\, pe pajiștea RdC!
URL:https://greenrevolution.ro/eveniment/yoga-pilates-powered-by-worldclass/2026-05-16/
ATTACH;FMTTYPE=image/jpeg:https://greenrevolution.ro/wp-content/uploads/2025/06/WhatsApp-Image-2025-06-24-at-14.33.45.jpeg
END:VEVENT
BEGIN:VEVENT
DTSTART;TZID=UTC:20260523T100000
DTEND;TZID=UTC:20260523T123000
DTSTAMP:20260421T111356
CREATED:20250624T114412Z
LAST-MODIFIED:20250624T114412Z
UID:10000202-1779530400-1779539400@greenrevolution.ro
SUMMARY:Yoga & pilates powered by Worldclass
DESCRIPTION:Sportul în aer liber\, la firul ierbii\, pe pajiștea RdC!
URL:https://greenrevolution.ro/eveniment/yoga-pilates-powered-by-worldclass/2026-05-23/
ATTACH;FMTTYPE=image/jpeg:https://greenrevolution.ro/wp-content/uploads/2025/06/WhatsApp-Image-2025-06-24-at-14.33.45.jpeg
END:VEVENT
BEGIN:VEVENT
DTSTART;TZID=UTC:20260530T100000
DTEND;TZID=UTC:20260530T123000
DTSTAMP:20260421T111356
CREATED:20250624T114412Z
LAST-MODIFIED:20250624T114412Z
UID:10000203-1780135200-1780144200@greenrevolution.ro
SUMMARY:Yoga & pilates powered by Worldclass
DESCRIPTION:Sportul în aer liber\, la firul ierbii\, pe pajiștea RdC!
URL:https://greenrevolution.ro/eveniment/yoga-pilates-powered-by-worldclass/2026-05-30/
ATTACH;FMTTYPE=image/jpeg:https://greenrevolution.ro/wp-content/uploads/2025/06/WhatsApp-Image-2025-06-24-at-14.33.45.jpeg
END:VEVENT
BEGIN:VEVENT
DTSTART;TZID=UTC:20260606T100000
DTEND;TZID=UTC:20260606T123000
DTSTAMP:20260421T111356
CREATED:20250624T114412Z
LAST-MODIFIED:20250624T114412Z
UID:10000204-1780740000-1780749000@greenrevolution.ro
SUMMARY:Yoga & pilates powered by Worldclass
DESCRIPTION:Sportul în aer liber\, la firul ierbii\, pe pajiștea RdC!
URL:https://greenrevolution.ro/eveniment/yoga-pilates-powered-by-worldclass/2026-06-06/
ATTACH;FMTTYPE=image/jpeg:https://greenrevolution.ro/wp-content/uploads/2025/06/WhatsApp-Image-2025-06-24-at-14.33.45.jpeg
END:VEVENT
BEGIN:VEVENT
DTSTART;TZID=UTC:20260613T100000
DTEND;TZID=UTC:20260613T123000
DTSTAMP:20260421T111356
CREATED:20250624T114412Z
LAST-MODIFIED:20250624T114412Z
UID:10000205-1781344800-1781353800@greenrevolution.ro
SUMMARY:Yoga & pilates powered by Worldclass
DESCRIPTION:Sportul în aer liber\, la firul ierbii\, pe pajiștea RdC!
URL:https://greenrevolution.ro/eveniment/yoga-pilates-powered-by-worldclass/2026-06-13/
ATTACH;FMTTYPE=image/jpeg:https://greenrevolution.ro/wp-content/uploads/2025/06/WhatsApp-Image-2025-06-24-at-14.33.45.jpeg
END:VEVENT
BEGIN:VEVENT
DTSTART;TZID=UTC:20260620T100000
DTEND;TZID=UTC:20260620T123000
DTSTAMP:20260421T111356
CREATED:20250624T114412Z
LAST-MODIFIED:20250624T114412Z
UID:10000206-1781949600-1781958600@greenrevolution.ro
SUMMARY:Yoga & pilates powered by Worldclass
DESCRIPTION:Sportul în aer liber\, la firul ierbii\, pe pajiștea RdC!
URL:https://greenrevolution.ro/eveniment/yoga-pilates-powered-by-worldclass/2026-06-20/
ATTACH;FMTTYPE=image/jpeg:https://greenrevolution.ro/wp-content/uploads/2025/06/WhatsApp-Image-2025-06-24-at-14.33.45.jpeg
END:VEVENT
BEGIN:VEVENT
DTSTART;TZID=UTC:20260627T100000
DTEND;TZID=UTC:20260627T123000
DTSTAMP:20260421T111356
CREATED:20250624T114412Z
LAST-MODIFIED:20250624T114412Z
UID:10000207-1782554400-1782563400@greenrevolution.ro
SUMMARY:Yoga & pilates powered by Worldclass
DESCRIPTION:Sportul în aer liber\, la firul ierbii\, pe pajiștea RdC!
URL:https://greenrevolution.ro/eveniment/yoga-pilates-powered-by-worldclass/2026-06-27/
ATTACH;FMTTYPE=image/jpeg:https://greenrevolution.ro/wp-content/uploads/2025/06/WhatsApp-Image-2025-06-24-at-14.33.45.jpeg
END:VEVENT
BEGIN:VEVENT
DTSTART;TZID=UTC:20260704T100000
DTEND;TZID=UTC:20260704T123000
DTSTAMP:20260421T111356
CREATED:20250624T114412Z
LAST-MODIFIED:20250624T114412Z
UID:10000208-1783159200-1783168200@greenrevolution.ro
SUMMARY:Yoga & pilates powered by Worldclass
DESCRIPTION:Sportul în aer liber\, la firul ierbii\, pe pajiștea RdC!
URL:https://greenrevolution.ro/eveniment/yoga-pilates-powered-by-worldclass/2026-07-04/
ATTACH;FMTTYPE=image/jpeg:https://greenrevolution.ro/wp-content/uploads/2025/06/WhatsApp-Image-2025-06-24-at-14.33.45.jpeg
END:VEVENT
BEGIN:VEVENT
DTSTART;TZID=UTC:20260711T100000
DTEND;TZID=UTC:20260711T123000
DTSTAMP:20260421T111356
CREATED:20250624T114412Z
LAST-MODIFIED:20250624T114412Z
UID:10000209-1783764000-1783773000@greenrevolution.ro
SUMMARY:Yoga & pilates powered by Worldclass
DESCRIPTION:Sportul în aer liber\, la firul ierbii\, pe pajiștea RdC!
URL:https://greenrevolution.ro/eveniment/yoga-pilates-powered-by-worldclass/2026-07-11/
ATTACH;FMTTYPE=image/jpeg:https://greenrevolution.ro/wp-content/uploads/2025/06/WhatsApp-Image-2025-06-24-at-14.33.45.jpeg
END:VEVENT
BEGIN:VEVENT
DTSTART;TZID=UTC:20260718T100000
DTEND;TZID=UTC:20260718T123000
DTSTAMP:20260421T111356
CREATED:20250624T114412Z
LAST-MODIFIED:20250624T114412Z
UID:10000210-1784368800-1784377800@greenrevolution.ro
SUMMARY:Yoga & pilates powered by Worldclass
DESCRIPTION:Sportul în aer liber\, la firul ierbii\, pe pajiștea RdC!
URL:https://greenrevolution.ro/eveniment/yoga-pilates-powered-by-worldclass/2026-07-18/
ATTACH;FMTTYPE=image/jpeg:https://greenrevolution.ro/wp-content/uploads/2025/06/WhatsApp-Image-2025-06-24-at-14.33.45.jpeg
END:VEVENT
BEGIN:VEVENT
DTSTART;TZID=UTC:20260725T100000
DTEND;TZID=UTC:20260725T123000
DTSTAMP:20260421T111356
CREATED:20250624T114412Z
LAST-MODIFIED:20250624T114412Z
UID:10000211-1784973600-1784982600@greenrevolution.ro
SUMMARY:Yoga & pilates powered by Worldclass
DESCRIPTION:Sportul în aer liber\, la firul ierbii\, pe pajiștea RdC!
URL:https://greenrevolution.ro/eveniment/yoga-pilates-powered-by-worldclass/2026-07-25/
ATTACH;FMTTYPE=image/jpeg:https://greenrevolution.ro/wp-content/uploads/2025/06/WhatsApp-Image-2025-06-24-at-14.33.45.jpeg
END:VEVENT
BEGIN:VEVENT
DTSTART;TZID=UTC:20260801T100000
DTEND;TZID=UTC:20260801T123000
DTSTAMP:20260421T111357
CREATED:20250624T114412Z
LAST-MODIFIED:20250624T114412Z
UID:10000212-1785578400-1785587400@greenrevolution.ro
SUMMARY:Yoga & pilates powered by Worldclass
DESCRIPTION:Sportul în aer liber\, la firul ierbii\, pe pajiștea RdC!
URL:https://greenrevolution.ro/eveniment/yoga-pilates-powered-by-worldclass/2026-08-01/
ATTACH;FMTTYPE=image/jpeg:https://greenrevolution.ro/wp-content/uploads/2025/06/WhatsApp-Image-2025-06-24-at-14.33.45.jpeg
END:VEVENT
BEGIN:VEVENT
DTSTART;TZID=UTC:20260808T100000
DTEND;TZID=UTC:20260808T123000
DTSTAMP:20260421T111357
CREATED:20250624T114412Z
LAST-MODIFIED:20250624T114412Z
UID:10000213-1786183200-1786192200@greenrevolution.ro
SUMMARY:Yoga & pilates powered by Worldclass
DESCRIPTION:Sportul în aer liber\, la firul ierbii\, pe pajiștea RdC!
URL:https://greenrevolution.ro/eveniment/yoga-pilates-powered-by-worldclass/2026-08-08/
ATTACH;FMTTYPE=image/jpeg:https://greenrevolution.ro/wp-content/uploads/2025/06/WhatsApp-Image-2025-06-24-at-14.33.45.jpeg
END:VEVENT
BEGIN:VEVENT
DTSTART;TZID=UTC:20260815T100000
DTEND;TZID=UTC:20260815T123000
DTSTAMP:20260421T111357
CREATED:20250624T114412Z
LAST-MODIFIED:20250624T114412Z
UID:10000214-1786788000-1786797000@greenrevolution.ro
SUMMARY:Yoga & pilates powered by Worldclass
DESCRIPTION:Sportul în aer liber\, la firul ierbii\, pe pajiștea RdC!
URL:https://greenrevolution.ro/eveniment/yoga-pilates-powered-by-worldclass/2026-08-15/
ATTACH;FMTTYPE=image/jpeg:https://greenrevolution.ro/wp-content/uploads/2025/06/WhatsApp-Image-2025-06-24-at-14.33.45.jpeg
END:VEVENT
BEGIN:VEVENT
DTSTART;TZID=UTC:20260822T100000
DTEND;TZID=UTC:20260822T123000
DTSTAMP:20260421T111357
CREATED:20250624T114412Z
LAST-MODIFIED:20250624T114412Z
UID:10000215-1787392800-1787401800@greenrevolution.ro
SUMMARY:Yoga & pilates powered by Worldclass
DESCRIPTION:Sportul în aer liber\, la firul ierbii\, pe pajiștea RdC!
URL:https://greenrevolution.ro/eveniment/yoga-pilates-powered-by-worldclass/2026-08-22/
ATTACH;FMTTYPE=image/jpeg:https://greenrevolution.ro/wp-content/uploads/2025/06/WhatsApp-Image-2025-06-24-at-14.33.45.jpeg
END:VEVENT
BEGIN:VEVENT
DTSTART;TZID=UTC:20260829T100000
DTEND;TZID=UTC:20260829T123000
DTSTAMP:20260421T111357
CREATED:20250624T114412Z
LAST-MODIFIED:20250624T114412Z
UID:10000216-1787997600-1788006600@greenrevolution.ro
SUMMARY:Yoga & pilates powered by Worldclass
DESCRIPTION:Sportul în aer liber\, la firul ierbii\, pe pajiștea RdC!
URL:https://greenrevolution.ro/eveniment/yoga-pilates-powered-by-worldclass/2026-08-29/
ATTACH;FMTTYPE=image/jpeg:https://greenrevolution.ro/wp-content/uploads/2025/06/WhatsApp-Image-2025-06-24-at-14.33.45.jpeg
END:VEVENT
BEGIN:VEVENT
DTSTART;TZID=UTC:20260905T100000
DTEND;TZID=UTC:20260905T123000
DTSTAMP:20260421T111357
CREATED:20250624T114412Z
LAST-MODIFIED:20250624T114412Z
UID:10000217-1788602400-1788611400@greenrevolution.ro
SUMMARY:Yoga & pilates powered by Worldclass
DESCRIPTION:Sportul în aer liber\, la firul ierbii\, pe pajiștea RdC!
URL:https://greenrevolution.ro/eveniment/yoga-pilates-powered-by-worldclass/2026-09-05/
ATTACH;FMTTYPE=image/jpeg:https://greenrevolution.ro/wp-content/uploads/2025/06/WhatsApp-Image-2025-06-24-at-14.33.45.jpeg
END:VEVENT
BEGIN:VEVENT
DTSTART;TZID=UTC:20260912T100000
DTEND;TZID=UTC:20260912T123000
DTSTAMP:20260421T111357
CREATED:20250624T114412Z
LAST-MODIFIED:20250624T114412Z
UID:10000218-1789207200-1789216200@greenrevolution.ro
SUMMARY:Yoga & pilates powered by Worldclass
DESCRIPTION:Sportul în aer liber\, la firul ierbii\, pe pajiștea RdC!
URL:https://greenrevolution.ro/eveniment/yoga-pilates-powered-by-worldclass/2026-09-12/
ATTACH;FMTTYPE=image/jpeg:https://greenrevolution.ro/wp-content/uploads/2025/06/WhatsApp-Image-2025-06-24-at-14.33.45.jpeg
END:VEVENT
BEGIN:VEVENT
DTSTART;TZID=UTC:20260919T100000
DTEND;TZID=UTC:20260919T123000
DTSTAMP:20260421T111357
CREATED:20250624T114412Z
LAST-MODIFIED:20250624T114412Z
UID:10000219-1789812000-1789821000@greenrevolution.ro
SUMMARY:Yoga & pilates powered by Worldclass
DESCRIPTION:Sportul în aer liber\, la firul ierbii\, pe pajiștea RdC!
URL:https://greenrevolution.ro/eveniment/yoga-pilates-powered-by-worldclass/2026-09-19/
ATTACH;FMTTYPE=image/jpeg:https://greenrevolution.ro/wp-content/uploads/2025/06/WhatsApp-Image-2025-06-24-at-14.33.45.jpeg
END:VEVENT
END:VCALENDAR